BEGIN:VCALENDAR
VERSION:2.0
PRODID:-//Full Circle Yoga - ECPv6.15.11//NONSGML v1.0//EN
CALSCALE:GREGORIAN
METHOD:PUBLISH
X-ORIGINAL-URL:https://fullcircleyoga.com
X-WR-CALDESC:Events for Full Circle Yoga
REFRESH-INTERVAL;VALUE=DURATION:PT1H
X-Robots-Tag:noindex
X-PUBLISHED-TTL:PT1H
BEGIN:VTIMEZONE
TZID:America/Chicago
BEGIN:DAYLIGHT
TZOFFSETFROM:-0600
TZOFFSETTO:-0500
TZNAME:CDT
DTSTART:20250309T080000
END:DAYLIGHT
BEGIN:STANDARD
TZOFFSETFROM:-0500
TZOFFSETTO:-0600
TZNAME:CST
DTSTART:20251102T070000
END:STANDARD
BEGIN:DAYLIGHT
TZOFFSETFROM:-0600
TZOFFSETTO:-0500
TZNAME:CDT
DTSTART:20260308T080000
END:DAYLIGHT
BEGIN:STANDARD
TZOFFSETFROM:-0500
TZOFFSETTO:-0600
TZNAME:CST
DTSTART:20261101T070000
END:STANDARD
BEGIN:DAYLIGHT
TZOFFSETFROM:-0600
TZOFFSETTO:-0500
TZNAME:CDT
DTSTART:20270314T080000
END:DAYLIGHT
BEGIN:STANDARD
TZOFFSETFROM:-0500
TZOFFSETTO:-0600
TZNAME:CST
DTSTART:20271107T070000
END:STANDARD
END:VTIMEZONE
BEGIN:VEVENT
DTSTART;TZID=America/Chicago:20260509T150000
DTEND;TZID=America/Chicago:20260509T160000
DTSTAMP:20260422T090507
CREATED:20260403T185047Z
LAST-MODIFIED:20260403T185047Z
UID:3629-1778338800-1778342400@fullcircleyoga.com
SUMMARY:Family Yoga
DESCRIPTION:In a world where parents and children are so busy\, family yoga provides a wonderful place to spend healthy and happy\, quality time together. This class offers peace of mind\, fun and playfulness\, relaxation\, and increased body strength and flexibility. Parent and child receive the same mental and physical benefits of this practice. The whole family will learn about yoga in a new way\, in the form of storytelling\, consisting of music\, games\, coloring\, and partner poses. We will incorporate music\, dancing\, and a game of yogi says\, followed by our relaxation and a fun craft to finish our time together. \nAll ages – $25 includes up to 5 family members \n 
URL:https://fullcircleyoga.com/event/family-yoga/
END:VEVENT
END:VCALENDAR